BEGIN:VCALENDAR
VERSION:2.0
PRODID:-//hacksw/handcal//NONSGML v1.0//EN
BEGIN:VEVENT
SUMMARY:Tournoi FFT du TC Rives
UID:6df25969-c3c8-4c8b-a64c-5a25a12cfff9
DTSTART:20260502T220000Z
DTEND:20260523T220000Z
LOCATION:TCRives 130 rue aristide berges 38140 RIVES SUR FURE
CATEGORIES:Sportif
STATUS:
URL;VALUE=URI:https://www.tennisclubrives.fr/evenements/2026/05/03/tournoi-fft-du-tc-rives-2444179
END:VEVENT
END:VCALENDAR
