BEGIN:VCALENDAR
VERSION:2.0
PRODID:-//hacksw/handcal//NONSGML v1.0//EN
BEGIN:VEVENT
SUMMARY:Interclubs seniors : Rives I - Saint-Clair-de-la-Tour
UID:86655455-3e82-44f6-9128-63fc301a0a61
DTSTART:20260426T070000Z
DTEND:20260426T140000Z
LOCATION:TCRives 130 rue aristide berges 38140 RIVES SUR FURE
CATEGORIES:Sportif
STATUS:
URL;VALUE=URI:https://www.tennisclubrives.fr/evenements/2026/04/26/interclubs-seniors-rives-i-saint-clair-de-la-tour-2444178
END:VEVENT
END:VCALENDAR
