BEGIN:VCALENDAR
VERSION:2.0
PRODID:-//hacksw/handcal//NONSGML v1.0//EN
BEGIN:VEVENT
SUMMARY:Interclubs : TC Rives - TC des deux Tours
UID:fbb598f3-1102-4b4d-8d69-5874b6b17b47
DTSTART:20260328T130000Z
DTEND:20260328T180000Z
LOCATION:TCRives 130 rue aristide berges 38140 RIVES SUR FURE
CATEGORIES:Sportif
STATUS:
URL;VALUE=URI:https://www.tennisclubrives.fr/evenements/2026/03/28/interclubs-tc-rives-tc-des-deux-tours-2433561
END:VEVENT
END:VCALENDAR
